BEGIN:VCALENDAR
VERSION:2.0
PRODID:-//World Affairs Council of Austin - ECPv6.15.20//NONSGML v1.0//EN
CALSCALE:GREGORIAN
METHOD:PUBLISH
X-ORIGINAL-URL:https://wacaustin.org
X-WR-CALDESC:Events for World Affairs Council of Austin
REFRESH-INTERVAL;VALUE=DURATION:PT1H
X-Robots-Tag:noindex
X-PUBLISHED-TTL:PT1H
BEGIN:VTIMEZONE
TZID:America/Chicago
BEGIN:DAYLIGHT
TZOFFSETFROM:-0600
TZOFFSETTO:-0500
TZNAME:CDT
DTSTART:20230312T080000
END:DAYLIGHT
BEGIN:STANDARD
TZOFFSETFROM:-0500
TZOFFSETTO:-0600
TZNAME:CST
DTSTART:20231105T070000
END:STANDARD
BEGIN:DAYLIGHT
TZOFFSETFROM:-0600
TZOFFSETTO:-0500
TZNAME:CDT
DTSTART:20240310T080000
END:DAYLIGHT
BEGIN:STANDARD
TZOFFSETFROM:-0500
TZOFFSETTO:-0600
TZNAME:CST
DTSTART:20241103T070000
END:STANDARD
BEGIN:DAYLIGHT
TZOFFSETFROM:-0600
TZOFFSETTO:-0500
TZNAME:CDT
DTSTART:20250309T080000
END:DAYLIGHT
BEGIN:STANDARD
TZOFFSETFROM:-0500
TZOFFSETTO:-0600
TZNAME:CST
DTSTART:20251102T070000
END:STANDARD
END:VTIMEZONE
BEGIN:VEVENT
DTSTART;TZID=America/Chicago:20240920T073000
DTEND;TZID=America/Chicago:20240920T140000
DTSTAMP:20260424T003942
CREATED:20240720T004055Z
LAST-MODIFIED:20240720T004055Z
UID:14110-1726817400-1726840800@wacaustin.org
SUMMARY:Global Security Forum 2024
DESCRIPTION:The World Affairs Council of Austin in partnership with the World Affairs Council of Connecticut presents the Global Security Forum (GSF)\, which convenes the nation’s top leadership and experts to discuss security and strategy in the decisive decade to come. Panelists will explore areas in which acting now will be vital to advancing our national and global security interests. \nAgenda: \n7:30 am CT      Welcome and Opening Remarks \n2:00 pm CT         Forum Concludes \nThis is an ONLINE EVENT.  Purchase VIRTUAL TICKET via this link:
URL:http://wacaustin.org/event/global-security-forum-2024/
LOCATION:ONLINE
CATEGORIES:peace and conflict,Security
ATTACH;FMTTYPE=image/jpeg:https://wacaustin.org/wp2015/wp-content/uploads/2024/07/SecurityForum.jpg
END:VEVENT
END:VCALENDAR