BEGIN:VCALENDAR
VERSION:2.0
PRODID:-//World Affairs Council of Austin - ECPv6.15.20//NONSGML v1.0//EN
CALSCALE:GREGORIAN
METHOD:PUBLISH
X-ORIGINAL-URL:https://wacaustin.org
X-WR-CALDESC:Events for World Affairs Council of Austin
REFRESH-INTERVAL;VALUE=DURATION:PT1H
X-Robots-Tag:noindex
X-PUBLISHED-TTL:PT1H
BEGIN:VTIMEZONE
TZID:America/Chicago
BEGIN:DAYLIGHT
TZOFFSETFROM:-0600
TZOFFSETTO:-0500
TZNAME:CDT
DTSTART:20250309T080000
END:DAYLIGHT
BEGIN:STANDARD
TZOFFSETFROM:-0500
TZOFFSETTO:-0600
TZNAME:CST
DTSTART:20251102T070000
END:STANDARD
BEGIN:DAYLIGHT
TZOFFSETFROM:-0600
TZOFFSETTO:-0500
TZNAME:CDT
DTSTART:20260308T080000
END:DAYLIGHT
BEGIN:STANDARD
TZOFFSETFROM:-0500
TZOFFSETTO:-0600
TZNAME:CST
DTSTART:20261101T070000
END:STANDARD
BEGIN:DAYLIGHT
TZOFFSETFROM:-0600
TZOFFSETTO:-0500
TZNAME:CDT
DTSTART:20270314T080000
END:DAYLIGHT
BEGIN:STANDARD
TZOFFSETFROM:-0500
TZOFFSETTO:-0600
TZNAME:CST
DTSTART:20271107T070000
END:STANDARD
END:VTIMEZONE
BEGIN:VEVENT
DTSTART;TZID=America/Chicago:20260520T171500
DTEND;TZID=America/Chicago:20260520T181500
DTSTAMP:20260422T072617
CREATED:20260421T222345Z
LAST-MODIFIED:20260421T223955Z
UID:14982-1779297300-1779300900@wacaustin.org
SUMMARY:WorldNow: The Global AI Race with Sebastian Mallaby
DESCRIPTION:Artificial intelligence is reshaping the global balance of power. What does the AI race mean for security\, power\, and the world economy? \n\n\n\n\nArtificial intelligence is reshaping the global balance of power. Nations are racing for advantage\, companies are competing for dominance\, and the quest for superintelligence is moving faster than ever. \nJoin us on WorldNow with Jim Falk as we sit down with Sebastian Mallaby\, author of The Infinity Machine: Demis Hassabis\, DeepMind\, & the Quest for Superintelligence and Senior Fellow for International Economics at the Council on Foreign Relations. \nFrom the rise of DeepMind and Silicon Valley to the intensifying global race for AI dominance\, we’ll explore what this technological competition could mean for security\, power\, and the future of the world economy. \nThe details:\nWhen: Wednesday\, May 20 | 6:15pm-7:15pm Eastern \nWhere: Zoom Webinar \n\n\n\n\nREGISTER HERE\n\n\n\n\nThe Infinity Machine: Demis Hassabis\, DeepMind\, and the Quest for Superintelligence by Sebastian Mallaby\nFrom one of our leading chroniclers of the intersection of innovation and capitalism\, a landmark reckoning—based on unprecedented access—with one of the world’s most brilliant and driven tech visionaries\, and his game-changing company. \n“A fascinating portrait of Demis Hassabis\, the influential thinker heading DeepMind\, Google’s AI research laboratory…Mallaby captures Hassabis’ curiosity and relentless drive\, weaving a vivid tapestry of collaborators\, competitors\, and engineers of modern AI systems…A tantalizing glimpse inside the pursuit of machine superintelligence.”–Kirkus Reviews\, starred review \nGet yourself a copy of The Infinity Machine on Bookshop.org and support your local bookstore \n\n\n\n\nPartners
URL:http://wacaustin.org/event/worldnow-the-global-ai-race-with-sebastian-mallaby/
LOCATION:ONLINE
CATEGORIES:educational,Geopolitics,Security
ATTACH;FMTTYPE=image/png:https://wacaustin.org/wp2015/wp-content/uploads/2026/04/WorldNow-logo.png
ORGANIZER;CN="World Affairs Council of Connecticut":MAILTO:info@ctwac.org
END:VEVENT
END:VCALENDAR