BEGIN:VCALENDAR
VERSION:2.0
PRODID:-//World Affairs Council of Austin - ECPv6.15.20//NONSGML v1.0//EN
CALSCALE:GREGORIAN
METHOD:PUBLISH
X-WR-CALNAME:World Affairs Council of Austin
X-ORIGINAL-URL:https://wacaustin.org
X-WR-CALDESC:Events for World Affairs Council of Austin
REFRESH-INTERVAL;VALUE=DURATION:PT1H
X-Robots-Tag:noindex
X-PUBLISHED-TTL:PT1H
BEGIN:VTIMEZONE
TZID:America/Chicago
BEGIN:DAYLIGHT
TZOFFSETFROM:-0600
TZOFFSETTO:-0500
TZNAME:CDT
DTSTART:20150308T080000
END:DAYLIGHT
BEGIN:STANDARD
TZOFFSETFROM:-0500
TZOFFSETTO:-0600
TZNAME:CST
DTSTART:20151101T070000
END:STANDARD
BEGIN:DAYLIGHT
TZOFFSETFROM:-0600
TZOFFSETTO:-0500
TZNAME:CDT
DTSTART:20160313T080000
END:DAYLIGHT
BEGIN:STANDARD
TZOFFSETFROM:-0500
TZOFFSETTO:-0600
TZNAME:CST
DTSTART:20161106T070000
END:STANDARD
BEGIN:DAYLIGHT
TZOFFSETFROM:-0600
TZOFFSETTO:-0500
TZNAME:CDT
DTSTART:20170312T080000
END:DAYLIGHT
BEGIN:STANDARD
TZOFFSETFROM:-0500
TZOFFSETTO:-0600
TZNAME:CST
DTSTART:20171105T070000
END:STANDARD
BEGIN:DAYLIGHT
TZOFFSETFROM:-0600
TZOFFSETTO:-0500
TZNAME:CDT
DTSTART:20180311T080000
END:DAYLIGHT
BEGIN:STANDARD
TZOFFSETFROM:-0500
TZOFFSETTO:-0600
TZNAME:CST
DTSTART:20181104T070000
END:STANDARD
BEGIN:DAYLIGHT
TZOFFSETFROM:-0600
TZOFFSETTO:-0500
TZNAME:CDT
DTSTART:20190310T080000
END:DAYLIGHT
BEGIN:STANDARD
TZOFFSETFROM:-0500
TZOFFSETTO:-0600
TZNAME:CST
DTSTART:20191103T070000
END:STANDARD
END:VTIMEZONE
BEGIN:VEVENT
DTSTART;TZID=America/Chicago:20180920T183000
DTEND;TZID=America/Chicago:20180920T203000
DTSTAMP:20260424T100221
CREATED:20180712T202536Z
LAST-MODIFIED:20200910T043643Z
UID:3765-1537468200-1537475400@wacaustin.org
SUMMARY:World Affairs Trivia Night
DESCRIPTION:The World Affairs Council of Austin’s annual event for global affairs-minded people like you! \nJoin us for the Fourth Edition of World Affairs Trivia Night for adults. Have fun and show off your skills in geography\, current events\, global affairs\, world leaders and international culture. \nCompete against your friends and colleagues in 8 rounds of international themed trivia! Teams of 2 – 5 people can register for $20 per team.  Teams will have the opportunity to win prizes from local Austin businesses.  Proceeds of this event will support the winning team of high school students who will be competing in Washington\, DC at the national Academic WorldQuest competition! \n\nGather your team\, and register by clicking on the payment button below: \n  \n\nTHIS EVENT SUPPORTS THE CENTRAL TEXAS ACADEMIC WORLDQUEST.
URL:http://wacaustin.org/event/world-affairs-trivia-night-2/
LOCATION:Opa! Coffee & Wine\, 2050 S. Lamar Blvd\, Austin\, TX\, 78704\, United States
CATEGORIES:Charity Fundraiser,cultural,educational
ATTACH;FMTTYPE=image/jpeg:https://wacaustin.org/wp2015/wp-content/uploads/2016/02/IntlTriviaNight-2015-2.jpg
END:VEVENT
BEGIN:VEVENT
DTSTART;TZID=America/Chicago:20161110T180000
DTEND;TZID=America/Chicago:20161110T200000
DTSTAMP:20260424T100221
CREATED:20161020T015925Z
LAST-MODIFIED:20161031T012044Z
UID:2222-1478800800-1478808000@wacaustin.org
SUMMARY:World Affairs Trivia Night
DESCRIPTION:The World Affairs Council of Austin’s annual event for global affairs-minded people like you! \nOn November 10th we will be presenting the Third Edition of World Affairs Trivia Night for adults. Have fun and show off your skills in geography\, current events\, global affairs\, world leaders and international culture. \nCompete against your friends and colleagues in 8 rounds of international themed trivia! Teams of 2 – 5 people can register for $20 per team.  Teams will have the opportunity to win prizes from local Austin businesses.  Proceeds of this event will support the winning team of high school students who will be competing in Washington\, DC at the national Academic WorldQuest! \n\nGather your team\, and register now. \n\nTHIS EVENT SUPPORTS ACADEMIC WORLDQUEST.
URL:http://wacaustin.org/event/world-affairs-trivia-night/
LOCATION:Ginger Man\, 301 Lavaca Street\, Austin\, TX\, 78701\, United States
CATEGORIES:Charity Fundraiser,educational
ATTACH;FMTTYPE=image/jpeg:https://wacaustin.org/wp2015/wp-content/uploads/2016/01/IntlTriviaNight-2015-2-scaled.jpg
END:VEVENT
END:VCALENDAR